BEGIN:VCALENDAR
VERSION:2.0
PRODID:-//Radioamateurs Groningen V2G - ECPv6.15.20//NONSGML v1.0//EN
CALSCALE:GREGORIAN
METHOD:PUBLISH
X-ORIGINAL-URL:https://v2g.club
X-WR-CALDESC:Evenementen voor Radioamateurs Groningen V2G
REFRESH-INTERVAL;VALUE=DURATION:PT1H
X-Robots-Tag:noindex
X-PUBLISHED-TTL:PT1H
BEGIN:VTIMEZONE
TZID:Europe/Amsterdam
BEGIN:DAYLIGHT
TZOFFSETFROM:+0100
TZOFFSETTO:+0200
TZNAME:CEST
DTSTART:20210328T010000
END:DAYLIGHT
BEGIN:STANDARD
TZOFFSETFROM:+0200
TZOFFSETTO:+0100
TZNAME:CET
DTSTART:20211031T010000
END:STANDARD
BEGIN:DAYLIGHT
TZOFFSETFROM:+0100
TZOFFSETTO:+0200
TZNAME:CEST
DTSTART:20220327T010000
END:DAYLIGHT
BEGIN:STANDARD
TZOFFSETFROM:+0200
TZOFFSETTO:+0100
TZNAME:CET
DTSTART:20221030T010000
END:STANDARD
BEGIN:DAYLIGHT
TZOFFSETFROM:+0100
TZOFFSETTO:+0200
TZNAME:CEST
DTSTART:20230326T010000
END:DAYLIGHT
BEGIN:STANDARD
TZOFFSETFROM:+0200
TZOFFSETTO:+0100
TZNAME:CET
DTSTART:20231029T010000
END:STANDARD
END:VTIMEZONE
BEGIN:VEVENT
DTSTART;TZID=Europe/Amsterdam:20220729T200000
DTEND;TZID=Europe/Amsterdam:20220730T080000
DTSTAMP:20260422T211341
CREATED:20220716T173336Z
LAST-MODIFIED:20220716T173614Z
UID:2894-1659124800-1659168000@v2g.club
SUMMARY:PI4AAG in de nacht...
DESCRIPTION:Op vrijdag nacht van 29 naar zaterdag 30 Juli is het dan zo ver\, na twee jaar vertraging. Het idee om een nacht lang radiocontacten te leggen ontstond al in 2019. In 2020 hadden we de locatie al op het oog…\, maar die ging zowat twee jaar dicht. We maken gebruik van het bijgebouwtje naast het stoomgemaal te Winschoten. \nHet nachtteam bestaat uit PD7WB Wolter\, PG8R Raimond\, PA7JC Jacob\, PDØDL Henk en PC1TK Sjohnie. \nNormaal is bezoek altijd welkom… en zo ook deze nacht. Maar we moeten wel rekening houden met de nachtrust. Het is wel niet in een druk bevolkte wijk\, maar er zijn wel omwonenden die we niet tot last willen zijn.Laat ons weten als u langs wilt komen\, zodat we weten hoeveel mensen er op welk moment komen. En we de rust met name in de nachtelijke uren niet verstoren voor de omwonenden. \nWe zullen proberen om op Pi3GRN QRV te zijn\, voor als iemand informatie wil over gebruikte frequenties\, of eventueel langs wil komen. We zijn ook erg benieuwd wat we die nacht wat dichter bij huis horen en wie er in de regio allemaal nog wakker is. \n73 en tot horens van het nachtteam van radioamateurs Groningen V2G!\nVoor veranderingen kunt deze site in de gaten houden. Vragen? ragv2g (apenstaartje) gmail punt com.
URL:https://v2g.club/event/pi4aag-in-de-nacht/
LOCATION:Museum Stoomgemaal Winschoten\, Nederland
CATEGORIES:Activiteiten
ATTACH;FMTTYPE=image/jpeg:https://v2g.club/wp-content/uploads/2022/07/wolf-647528_1920.jpg
END:VEVENT
END:VCALENDAR