BEGIN:VCALENDAR
VERSION:2.0
PRODID:-//Radioamateurs Groningen V2G - ECPv6.15.20//NONSGML v1.0//EN
CALSCALE:GREGORIAN
METHOD:PUBLISH
X-WR-CALNAME:Radioamateurs Groningen V2G
X-ORIGINAL-URL:https://v2g.club
X-WR-CALDESC:Evenementen voor Radioamateurs Groningen V2G
REFRESH-INTERVAL;VALUE=DURATION:PT1H
X-Robots-Tag:noindex
X-PUBLISHED-TTL:PT1H
BEGIN:VTIMEZONE
TZID:Europe/Amsterdam
BEGIN:DAYLIGHT
TZOFFSETFROM:+0100
TZOFFSETTO:+0200
TZNAME:CEST
DTSTART:20210328T010000
END:DAYLIGHT
BEGIN:STANDARD
TZOFFSETFROM:+0200
TZOFFSETTO:+0100
TZNAME:CET
DTSTART:20211031T010000
END:STANDARD
BEGIN:DAYLIGHT
TZOFFSETFROM:+0100
TZOFFSETTO:+0200
TZNAME:CEST
DTSTART:20220327T010000
END:DAYLIGHT
BEGIN:STANDARD
TZOFFSETFROM:+0200
TZOFFSETTO:+0100
TZNAME:CET
DTSTART:20221030T010000
END:STANDARD
BEGIN:DAYLIGHT
TZOFFSETFROM:+0100
TZOFFSETTO:+0200
TZNAME:CEST
DTSTART:20230326T010000
END:DAYLIGHT
BEGIN:STANDARD
TZOFFSETFROM:+0200
TZOFFSETTO:+0100
TZNAME:CET
DTSTART:20231029T010000
END:STANDARD
END:VTIMEZONE
BEGIN:VEVENT
DTSTART;TZID=Europe/Amsterdam:20220822T000000
DTEND;TZID=Europe/Amsterdam:20220828T235900
DTSTAMP:20260422T193013
CREATED:20220606T092737Z
LAST-MODIFIED:20221001T140008Z
UID:2728-1661126400-1661731140@v2g.club
SUMMARY:V2G velddagen
DESCRIPTION:Van 22 augustus t/m 28 augustus 2022 organiseren de VERON afdeling A.19 en de VRZA afdeling A.09 (afgekort V2G) de inmiddels traditionele velddagen op camping “Aan de Bosrand“ (Bremerweg 1 bij Zevenhuizen\, vlakbij het plaatsje De Haspel). \nAlle V2G-leden (en aanhang) zijn welkom bij de altijd weer gezellige activiteiten\, b.v. op zaterdagmiddag/avond\, wanneer er Surinaams eten wordt gehaald. \nDe camping heeft een zwemvijver met daarin grote vissen (ideaal voor de vissers onder ons)\, en er is ook een groot bos achter de camping aanwezig waar je lekker kunt wandelen. In Zevenhuizen is een grote supermarkt voor de benodigde boodschappen.
URL:https://v2g.club/event/v2g-velddagen/
LOCATION:Camping Aan de Bosrand\, Bremerweg 1\, Zevenhuizen\, 9354 VN\, Nederland
CATEGORIES:Activiteiten
ATTACH;FMTTYPE=image/jpeg:https://v2g.club/wp-content/uploads/2020/06/P1000626-scaled-1.jpg
ORGANIZER;CN="Dirk de Wit PA4DDW":MAILTO:pa4ddw@ziggo.nl
END:VEVENT
END:VCALENDAR