BEGIN:VCALENDAR
VERSION:2.0
PRODID:-//Radioamateurs Groningen V2G - ECPv6.15.20//NONSGML v1.0//EN
CALSCALE:GREGORIAN
METHOD:PUBLISH
X-WR-CALNAME:Radioamateurs Groningen V2G
X-ORIGINAL-URL:https://v2g.club
X-WR-CALDESC:Evenementen voor Radioamateurs Groningen V2G
REFRESH-INTERVAL;VALUE=DURATION:PT1H
X-Robots-Tag:noindex
X-PUBLISHED-TTL:PT1H
BEGIN:VTIMEZONE
TZID:Europe/Amsterdam
BEGIN:DAYLIGHT
TZOFFSETFROM:+0100
TZOFFSETTO:+0200
TZNAME:CEST
DTSTART:20240331T010000
END:DAYLIGHT
BEGIN:STANDARD
TZOFFSETFROM:+0200
TZOFFSETTO:+0100
TZNAME:CET
DTSTART:20241027T010000
END:STANDARD
BEGIN:DAYLIGHT
TZOFFSETFROM:+0100
TZOFFSETTO:+0200
TZNAME:CEST
DTSTART:20250330T010000
END:DAYLIGHT
BEGIN:STANDARD
TZOFFSETFROM:+0200
TZOFFSETTO:+0100
TZNAME:CET
DTSTART:20251026T010000
END:STANDARD
BEGIN:DAYLIGHT
TZOFFSETFROM:+0100
TZOFFSETTO:+0200
TZNAME:CEST
DTSTART:20260329T010000
END:DAYLIGHT
BEGIN:STANDARD
TZOFFSETFROM:+0200
TZOFFSETTO:+0100
TZNAME:CET
DTSTART:20261025T010000
END:STANDARD
END:VTIMEZONE
BEGIN:VEVENT
DTSTART;TZID=Europe/Amsterdam:20250311T193000
DTEND;TZID=Europe/Amsterdam:20250311T223000
DTSTAMP:20260425T042808
CREATED:20250301T173754Z
LAST-MODIFIED:20250301T173754Z
UID:3730-1741721400-1741732200@v2g.club
SUMMARY:DX-expeditiavonturen van Gerben PG5M
DESCRIPTION:Lezing over DX-expedities door Gerben PG5M. \nLees de hele aankondiging hier.
URL:https://v2g.club/event/dx-expeditiavonturen-van-gerben-pg5m/
LOCATION:MFC De Klabbe\, Pluvierstraat 11\, Foxhol\, Groningen\, 9607 RJ\, Nederland
CATEGORIES:Afdelingsbijeenkomsten
ATTACH;FMTTYPE=image/jpeg:https://v2g.club/wp-content/uploads/2025/03/Foto-01-03-2025-om-18.33.jpeg
ORGANIZER;CN="Radioamateurs Groningen V2G":MAILTO:secretarisv2g@gmail.com
END:VEVENT
END:VCALENDAR