BEGIN:VCALENDAR
VERSION:2.0
PRODID:-//Radioamateurs Groningen V2G - ECPv6.15.20//NONSGML v1.0//EN
CALSCALE:GREGORIAN
METHOD:PUBLISH
X-ORIGINAL-URL:https://v2g.club
X-WR-CALDESC:Evenementen voor Radioamateurs Groningen V2G
REFRESH-INTERVAL;VALUE=DURATION:PT1H
X-Robots-Tag:noindex
X-PUBLISHED-TTL:PT1H
BEGIN:VTIMEZONE
TZID:Europe/Amsterdam
BEGIN:DAYLIGHT
TZOFFSETFROM:+0100
TZOFFSETTO:+0200
TZNAME:CEST
DTSTART:20240331T010000
END:DAYLIGHT
BEGIN:STANDARD
TZOFFSETFROM:+0200
TZOFFSETTO:+0100
TZNAME:CET
DTSTART:20241027T010000
END:STANDARD
BEGIN:DAYLIGHT
TZOFFSETFROM:+0100
TZOFFSETTO:+0200
TZNAME:CEST
DTSTART:20250330T010000
END:DAYLIGHT
BEGIN:STANDARD
TZOFFSETFROM:+0200
TZOFFSETTO:+0100
TZNAME:CET
DTSTART:20251026T010000
END:STANDARD
BEGIN:DAYLIGHT
TZOFFSETFROM:+0100
TZOFFSETTO:+0200
TZNAME:CEST
DTSTART:20260329T010000
END:DAYLIGHT
BEGIN:STANDARD
TZOFFSETFROM:+0200
TZOFFSETTO:+0100
TZNAME:CET
DTSTART:20261025T010000
END:STANDARD
END:VTIMEZONE
BEGIN:VEVENT
DTSTART;TZID=Europe/Amsterdam:20251014T193000
DTEND;TZID=Europe/Amsterdam:20251014T223000
DTSTAMP:20260422T042940
CREATED:20251005T123728Z
LAST-MODIFIED:20251005T123728Z
UID:3850-1760470200-1760481000@v2g.club
SUMMARY:Afdelingsbijeenkomst: Oude radio's en hun voorlopers
DESCRIPTION:Afdelingsbijeenkomst in MFC De Klabbe in Foxhol. \nZie het bericht met de uitgebreide aankondiging voor meer informatie. \nFoto: Bruno via Pixabay
URL:https://v2g.club/event/afdelingsbijeenkomst-oude-radios-en-hun-voorlopers/
LOCATION:MFC De Klabbe\, Pluvierstraat 11\, Foxhol\, Groningen\, 9607 RJ\, Nederland
CATEGORIES:Afdelingsbijeenkomsten
ATTACH;FMTTYPE=image/jpeg:https://v2g.club/wp-content/uploads/2025/10/radio-7227011_1280.jpg
ORGANIZER;CN="Radioamateurs Groningen V2G":MAILTO:secretarisv2g@gmail.com
END:VEVENT
END:VCALENDAR