BEGIN:VCALENDAR
VERSION:2.0
PRODID:-//Radioamateurs Groningen V2G - ECPv6.15.20//NONSGML v1.0//EN
CALSCALE:GREGORIAN
METHOD:PUBLISH
X-ORIGINAL-URL:https://v2g.club
X-WR-CALDESC:Evenementen voor Radioamateurs Groningen V2G
REFRESH-INTERVAL;VALUE=DURATION:PT1H
X-Robots-Tag:noindex
X-PUBLISHED-TTL:PT1H
BEGIN:VTIMEZONE
TZID:Europe/Amsterdam
BEGIN:DAYLIGHT
TZOFFSETFROM:+0100
TZOFFSETTO:+0200
TZNAME:CEST
DTSTART:20230326T010000
END:DAYLIGHT
BEGIN:STANDARD
TZOFFSETFROM:+0200
TZOFFSETTO:+0100
TZNAME:CET
DTSTART:20231029T010000
END:STANDARD
BEGIN:DAYLIGHT
TZOFFSETFROM:+0100
TZOFFSETTO:+0200
TZNAME:CEST
DTSTART:20240331T010000
END:DAYLIGHT
BEGIN:STANDARD
TZOFFSETFROM:+0200
TZOFFSETTO:+0100
TZNAME:CET
DTSTART:20241027T010000
END:STANDARD
BEGIN:DAYLIGHT
TZOFFSETFROM:+0100
TZOFFSETTO:+0200
TZNAME:CEST
DTSTART:20250330T010000
END:DAYLIGHT
BEGIN:STANDARD
TZOFFSETFROM:+0200
TZOFFSETTO:+0100
TZNAME:CET
DTSTART:20251026T010000
END:STANDARD
END:VTIMEZONE
BEGIN:VEVENT
DTSTART;TZID=Europe/Amsterdam:20241008T193000
DTEND;TZID=Europe/Amsterdam:20241008T220000
DTSTAMP:20260425T145533
CREATED:20240929T122516Z
LAST-MODIFIED:20240929T122516Z
UID:3651-1728415800-1728424800@v2g.club
SUMMARY:Radar in WO2
DESCRIPTION:Afdelingsbijeenkomst van V2G met een lezing over radar in de Tweede Wereldoorlog. \nLees hier de volledige aankondiging.
URL:https://v2g.club/event/radar-in-wo2/
LOCATION:MFC De Klabbe\, Pluvierstraat 11\, Foxhol\, Groningen\, 9607 RJ\, Nederland
CATEGORIES:Afdelingsbijeenkomsten
ATTACH;FMTTYPE=image/jpeg:https://v2g.club/wp-content/uploads/2024/09/antenna-2832912_1920.jpg
ORGANIZER;CN="Radioamateurs Groningen V2G":MAILTO:secretarisv2g@gmail.com
END:VEVENT
END:VCALENDAR