BEGIN:VCALENDAR
VERSION:2.0
PRODID:-//Radioamateurs Groningen V2G - ECPv6.15.20//NONSGML v1.0//EN
CALSCALE:GREGORIAN
METHOD:PUBLISH
X-ORIGINAL-URL:https://v2g.club
X-WR-CALDESC:Evenementen voor Radioamateurs Groningen V2G
REFRESH-INTERVAL;VALUE=DURATION:PT1H
X-Robots-Tag:noindex
X-PUBLISHED-TTL:PT1H
BEGIN:VTIMEZONE
TZID:Europe/Amsterdam
BEGIN:DAYLIGHT
TZOFFSETFROM:+0100
TZOFFSETTO:+0200
TZNAME:CEST
DTSTART:20240331T010000
END:DAYLIGHT
BEGIN:STANDARD
TZOFFSETFROM:+0200
TZOFFSETTO:+0100
TZNAME:CET
DTSTART:20241027T010000
END:STANDARD
BEGIN:DAYLIGHT
TZOFFSETFROM:+0100
TZOFFSETTO:+0200
TZNAME:CEST
DTSTART:20250330T010000
END:DAYLIGHT
BEGIN:STANDARD
TZOFFSETFROM:+0200
TZOFFSETTO:+0100
TZNAME:CET
DTSTART:20251026T010000
END:STANDARD
BEGIN:DAYLIGHT
TZOFFSETFROM:+0100
TZOFFSETTO:+0200
TZNAME:CEST
DTSTART:20260329T010000
END:DAYLIGHT
BEGIN:STANDARD
TZOFFSETFROM:+0200
TZOFFSETTO:+0100
TZNAME:CET
DTSTART:20261025T010000
END:STANDARD
END:VTIMEZONE
BEGIN:VEVENT
DTSTART;TZID=Europe/Amsterdam:20250408T193000
DTEND;TZID=Europe/Amsterdam:20250408T223000
DTSTAMP:20260425T042935
CREATED:20250330T123508Z
LAST-MODIFIED:20250330T123508Z
UID:3773-1744140600-1744151400@v2g.club
SUMMARY:Voorstellen VR Veron en lezing ontwikkeling kleurentelevisie
DESCRIPTION:Behandelen van de voorstellen voor de verenigingsraad van de Veron en lezing van Tonny PA4TON over de ontwikkeling van kleurentelevisie. Zie het bericht met de uitgebreide aankondiging.
URL:https://v2g.club/event/voorstellen-vr-veron-en-lezing-ontwikkeling-kleurentelevisie/
LOCATION:MFC De Klabbe\, Pluvierstraat 11\, Foxhol\, Groningen\, 9607 RJ\, Nederland
CATEGORIES:Afdelingsbijeenkomsten
ATTACH;FMTTYPE=image/avif:https://v2g.club/wp-content/uploads/2025/03/Tv-testbeeld.jpg.avif
ORGANIZER;CN="Radioamateurs Groningen V2G":MAILTO:secretarisv2g@gmail.com
END:VEVENT
END:VCALENDAR