BEGIN:VCALENDAR
VERSION:2.0
PRODID:-//Radioamateurs Groningen V2G - ECPv6.15.20//NONSGML v1.0//EN
CALSCALE:GREGORIAN
METHOD:PUBLISH
X-WR-CALNAME:Radioamateurs Groningen V2G
X-ORIGINAL-URL:https://v2g.club
X-WR-CALDESC:Evenementen voor Radioamateurs Groningen V2G
REFRESH-INTERVAL;VALUE=DURATION:PT1H
X-Robots-Tag:noindex
X-PUBLISHED-TTL:PT1H
BEGIN:VTIMEZONE
TZID:Europe/Amsterdam
BEGIN:DAYLIGHT
TZOFFSETFROM:+0100
TZOFFSETTO:+0200
TZNAME:CEST
DTSTART:20250330T010000
END:DAYLIGHT
BEGIN:STANDARD
TZOFFSETFROM:+0200
TZOFFSETTO:+0100
TZNAME:CET
DTSTART:20251026T010000
END:STANDARD
BEGIN:DAYLIGHT
TZOFFSETFROM:+0100
TZOFFSETTO:+0200
TZNAME:CEST
DTSTART:20260329T010000
END:DAYLIGHT
BEGIN:STANDARD
TZOFFSETFROM:+0200
TZOFFSETTO:+0100
TZNAME:CET
DTSTART:20261025T010000
END:STANDARD
BEGIN:DAYLIGHT
TZOFFSETFROM:+0100
TZOFFSETTO:+0200
TZNAME:CEST
DTSTART:20270328T010000
END:DAYLIGHT
BEGIN:STANDARD
TZOFFSETFROM:+0200
TZOFFSETTO:+0100
TZNAME:CET
DTSTART:20271031T010000
END:STANDARD
END:VTIMEZONE
BEGIN:VEVENT
DTSTART;TZID=Europe/Amsterdam:20260310T193000
DTEND;TZID=Europe/Amsterdam:20260310T223000
DTSTAMP:20260422T011308
CREATED:20260301T142356Z
LAST-MODIFIED:20260301T142356Z
UID:3907-1773171000-1773181800@v2g.club
SUMMARY:Lezing over conteststation PI4GN
DESCRIPTION:Jaap Last PA0T vertelt over conteststation PI4GN. Zie voor meer informatie het bericht met de uitgebreide aankondiging.
URL:https://v2g.club/event/lezing-over-conteststation-pi4gn/
LOCATION:MFC De Klabbe\, Pluvierstraat 11\, Foxhol\, Groningen\, 9607 RJ\, Nederland
CATEGORIES:Afdelingsbijeenkomsten
ATTACH;FMTTYPE=image/jpeg:https://v2g.club/wp-content/uploads/2026/03/Scherm­afbeelding-2026-03-01-om-15.18.31.jpeg
ORGANIZER;CN="Radioamateurs Groningen V2G":MAILTO:secretarisv2g@gmail.com
END:VEVENT
BEGIN:VEVENT
DTSTART;TZID=Europe/Amsterdam:20260414T193000
DTEND;TZID=Europe/Amsterdam:20260414T223000
DTSTAMP:20260422T011308
CREATED:20260407T070405Z
LAST-MODIFIED:20260407T070415Z
UID:3913-1776195000-1776205800@v2g.club
SUMMARY:Modelvliegen
DESCRIPTION:Op onze komende verenigingsavond op dinsdag 14 april verzorgt Ron Wardenier een lezing over modelvliegtuigen. Lees voor meer informatie de aankondiging voor deze avond. \n 
URL:https://v2g.club/event/modelvliegen/
LOCATION:MFC De Klabbe\, Pluvierstraat 11\, Foxhol\, Groningen\, 9607 RJ\, Nederland
CATEGORIES:Afdelingsbijeenkomsten
ATTACH;FMTTYPE=image/jpeg:https://v2g.club/wp-content/uploads/2026/04/MG_6692.jpeg
ORGANIZER;CN="Radioamateurs Groningen V2G":MAILTO:secretarisv2g@gmail.com
END:VEVENT
END:VCALENDAR